BEGIN:VCALENDAR
VERSION:2.0
PRODID:-//5.132.161.124//NONSGML kigkonsult.se iCalcreator 2.24.2//
BEGIN:VEVENT
UID:20260420T003431CEST-140005b344@5.132.161.124
DTSTAMP:20260419T223431Z
DTSTART:20251130T160000Z
SUMMARY:Bach und B-A-C-H (30.11.2025\,17:00)
END:VEVENT
END:VCALENDAR
