BEGIN:VCALENDAR
VERSION:2.0
PRODID:-//5.132.161.124//NONSGML kigkonsult.se iCalcreator 2.24.2//
BEGIN:VEVENT
UID:20260420T002509CEST-293058f210@5.132.161.124
DTSTAMP:20260419T222509Z
DTSTART:20260118T160000Z
SUMMARY:Introduktion und Finale (18.01.2026\,17:00)
END:VEVENT
END:VCALENDAR
