BEGIN:VCALENDAR
VERSION:2.0
PRODID:-//5.132.161.124//NONSGML kigkonsult.se iCalcreator 2.24.2//
BEGIN:VEVENT
UID:20260419T174338CEST-6598a31504@5.132.161.124
DTSTAMP:20260419T154338Z
DTSTART:20260126T170000Z
SUMMARY:Orgelführung (26.01.2026\, 18:00)
END:VEVENT
END:VCALENDAR
