BEGIN:VCALENDAR
VERSION:2.0
PRODID:-//5.132.161.124//NONSGML kigkonsult.se iCalcreator 2.24.2//
BEGIN:VEVENT
UID:20260419T172735CEST-58574939ba@5.132.161.124
DTSTAMP:20260419T152735Z
DTSTART:20251031T183000Z
SUMMARY:Wooden Elephant (31.10.2025\, 19:30)
END:VEVENT
END:VCALENDAR
