BEGIN:VCALENDAR
VERSION:2.0
PRODID:-//5.132.161.124//NONSGML kigkonsult.se iCalcreator 2.24.2//
BEGIN:VEVENT
UID:20260419T142408CEST-5221645253@5.132.161.124
DTSTAMP:20260419T122408Z
DTSTART:20260528T173000Z
SUMMARY:Minetti Quartett trifft The Düsseldorf Düsterboys (28.05.2026\, 19:
 30)
END:VEVENT
END:VCALENDAR
