BEGIN:VCALENDAR
VERSION:2.0
PRODID:-//5.132.161.124//NONSGML kigkonsult.se iCalcreator 2.24.2//
BEGIN:VEVENT
UID:20260419T174628CEST-6833e032a5@5.132.161.124
DTSTAMP:20260419T154628Z
DTSTART:20260120T190000Z
SUMMARY:The Erlkings (20.01.2026\, 20:00)
END:VEVENT
END:VCALENDAR
