BEGIN:VCALENDAR
VERSION:2.0
PRODID:-//5.132.161.124//NONSGML kigkonsult.se iCalcreator 2.24.2//
BEGIN:VEVENT
UID:20260419T175356CEST-1283fda6ea@5.132.161.124
DTSTAMP:20260419T155356Z
DTSTART:20251217T183000Z
SUMMARY:Südosteuropa trifft Salzburg (17.12.2025\, 19:30)
END:VEVENT
END:VCALENDAR
