BEGIN:VCALENDAR
VERSION:2.0
PRODID:-//5.132.161.124//NONSGML kigkonsult.se iCalcreator 2.24.2//
BEGIN:VEVENT
UID:20260419T142424CEST-60843493c9@5.132.161.124
DTSTAMP:20260419T122424Z
DTSTART:20260506T173000Z
SUMMARY:Kammerkonzert  (06.05.2026\, 19:30)
END:VEVENT
END:VCALENDAR
