BEGIN:VCALENDAR
VERSION:2.0
PRODID:-//5.132.161.124//NONSGML kigkonsult.se iCalcreator 2.24.2//
BEGIN:VEVENT
UID:20260419T174727CEST-4026b33965@5.132.161.124
DTSTAMP:20260419T154727Z
DTSTART:20251027T183000Z
SUMMARY:UAS – UpperAustrianSinfonietta (27.10.2025\, 19:30)
END:VEVENT
END:VCALENDAR
