BEGIN:VCALENDAR
VERSION:2.0
PRODID:-//5.132.161.124//NONSGML kigkonsult.se iCalcreator 2.24.2//
BEGIN:VEVENT
UID:20260419T142403CEST-1609434385@5.132.161.124
DTSTAMP:20260419T122403Z
DTSTART:20260507T173000Z
SUMMARY:Röhrig & Symphonieorchester der Anton Bruckner Privatuniversität  (
 07.05.2026\, 19:30)
END:VEVENT
END:VCALENDAR
