BEGIN:VCALENDAR
VERSION:2.0
PRODID:-//5.132.161.124//NONSGML kigkonsult.se iCalcreator 2.24.2//
BEGIN:VEVENT
UID:20260419T174459CEST-1647ac35fc@5.132.161.124
DTSTAMP:20260419T154459Z
DTSTART:20260622T123000Z
SUMMARY:Ein Haus voll Musik (Junge Kooperationen\, 22.06.2026\, 14:30)
END:VEVENT
END:VCALENDAR
