BEGIN:VCALENDAR
VERSION:2.0
PRODID:-//5.132.161.124//NONSGML kigkonsult.se iCalcreator 2.24.2//
BEGIN:VEVENT
UID:20260419T174700CEST-3770dfa5b0@5.132.161.124
DTSTAMP:20260419T154700Z
DTSTART:20260623T123000Z
SUMMARY:Ein Haus voll Musik (Junge Kooperationen\, 23.06.2026\, 14:30)
END:VEVENT
END:VCALENDAR
