BEGIN:VCALENDAR
VERSION:2.0
PRODID:-//5.132.161.124//NONSGML kigkonsult.se iCalcreator 2.24.2//
BEGIN:VEVENT
UID:20260419T174531CEST-3778319ce9@5.132.161.124
DTSTAMP:20260419T154531Z
DTSTART:20260624T123000Z
SUMMARY:Ein Haus voll Musik (Junge Kooperationen\, 24.06.2026\, 14:30)
END:VEVENT
END:VCALENDAR
