BEGIN:VCALENDAR
VERSION:2.0
PRODID:-//5.132.161.124//NONSGML kigkonsult.se iCalcreator 2.24.2//
BEGIN:VEVENT
UID:20260419T174829CEST-1770e83198@5.132.161.124
DTSTAMP:20260419T154829Z
DTSTART:20260125T100000Z
SUMMARY:What on Earth! (25.01.2026\, 11:00)
END:VEVENT
END:VCALENDAR
