BEGIN:VCALENDAR
VERSION:2.0
PRODID:-//5.132.161.124//NONSGML kigkonsult.se iCalcreator 2.24.2//
BEGIN:VEVENT
UID:20260419T174526CEST-147494e5ef@5.132.161.124
DTSTAMP:20260419T154526Z
DTSTART:20251214T143000Z
SUMMARY:Bilder einer Ausstellung (14.12.2025\, 15:30)
END:VEVENT
END:VCALENDAR
