BEGIN:VCALENDAR
VERSION:2.0
PRODID:-//5.132.161.124//NONSGML kigkonsult.se iCalcreator 2.24.2//
BEGIN:VEVENT
UID:20260419T174654CEST-1219448f50@5.132.161.124
DTSTAMP:20260419T154654Z
DTSTART:20260125T143000Z
SUMMARY:What on Earth! (25.01.2026\, 15:30)
END:VEVENT
END:VCALENDAR
