BEGIN:VCALENDAR
VERSION:2.0
PRODID:-//5.132.161.124//NONSGML kigkonsult.se iCalcreator 2.24.2//
BEGIN:VEVENT
UID:20260419T174727CEST-4477cae7fa@5.132.161.124
DTSTAMP:20260419T154727Z
DTSTART:20260315T100000Z
SUMMARY:The Grimm-Andersen Sessions (15.03.2026\, 11:00)
END:VEVENT
END:VCALENDAR
