BEGIN:VCALENDAR
VERSION:2.0
PRODID:-//5.132.161.124//NONSGML kigkonsult.se iCalcreator 2.24.2//
BEGIN:VEVENT
UID:20260419T174345CEST-4837e718f4@5.132.161.124
DTSTAMP:20260419T154345Z
DTSTART:20260315T143000Z
SUMMARY:The Grimm-Andersen Sessions (15.03.2026\, 15:30)
END:VEVENT
END:VCALENDAR
