BEGIN:VCALENDAR
VERSION:2.0
PRODID:-//5.132.161.124//NONSGML kigkonsult.se iCalcreator 2.24.2//
BEGIN:VEVENT
UID:20260419T142527CEST-1513bf81b0@5.132.161.124
DTSTAMP:20260419T122527Z
DTSTART:20260607T090000Z
SUMMARY:Das Leben ist ein Tanz! (07.06.2026\, 11:00)
END:VEVENT
END:VCALENDAR
