BEGIN:VCALENDAR
VERSION:2.0
PRODID:-//5.132.161.124//NONSGML kigkonsult.se iCalcreator 2.24.2//
BEGIN:VEVENT
UID:20260419T174552CEST-8134b4a32b@5.132.161.124
DTSTAMP:20260419T154552Z
DTSTART:20251220T100000Z
SUMMARY:Viva Banana (20.12.2025\, 11:00)
END:VEVENT
END:VCALENDAR
