BEGIN:VCALENDAR
VERSION:2.0
PRODID:-//5.132.161.124//NONSGML kigkonsult.se iCalcreator 2.24.2//
BEGIN:VEVENT
UID:20260419T174829CEST-07539cb672@5.132.161.124
DTSTAMP:20260419T154829Z
DTSTART:20260328T100000Z
SUMMARY:Mission Weltall (28.03.2026\, 11:00)
END:VEVENT
END:VCALENDAR
