BEGIN:VCALENDAR
VERSION:2.0
PRODID:-//5.132.161.124//NONSGML kigkonsult.se iCalcreator 2.24.2//
BEGIN:VEVENT
UID:20260419T174933CEST-49745442c1@5.132.161.124
DTSTAMP:20260419T154933Z
DTSTART:20251007T140000Z
SUMMARY:Vielfalt in Harmonie (Antons.Kidsclub 07.10.2025\, 16:00)
END:VEVENT
END:VCALENDAR
