BEGIN:VCALENDAR
VERSION:2.0
PRODID:-//5.132.161.124//NONSGML kigkonsult.se iCalcreator 2.24.2//
BEGIN:VEVENT
UID:20260419T175356CEST-28469b48d1@5.132.161.124
DTSTAMP:20260419T155356Z
DTSTART:20260127T150000Z
SUMMARY:Von Pfeifen und Registern (Antons.Kidsclub 27.01.2026\, 16:00)
END:VEVENT
END:VCALENDAR
