BEGIN:VCALENDAR
VERSION:2.0
PRODID:-//5.132.161.124//NONSGML kigkonsult.se iCalcreator 2.24.2//
BEGIN:VEVENT
UID:20260419T173049CEST-83973a8d57@5.132.161.124
DTSTAMP:20260419T153049Z
DTSTART:20260327T080000Z
SUMMARY:Mission Weltall - Volksschulkonzert 6+ (27.03.2026\, 09:00)
END:VEVENT
END:VCALENDAR
