BEGIN:VCALENDAR
VERSION:2.0
PRODID:-//5.132.161.124//NONSGML kigkonsult.se iCalcreator 2.24.2//
BEGIN:VEVENT
UID:20260419T171756CEST-92767ef2cb@5.132.161.124
DTSTAMP:20260419T151756Z
DTSTART:20260327T093000Z
SUMMARY:Mission Weltall - Volksschulkonzert 6+ (27.03.2026\, 10:30)
END:VEVENT
END:VCALENDAR
