BEGIN:VCALENDAR
VERSION:2.0
PRODID:-//5.132.161.124//NONSGML kigkonsult.se iCalcreator 2.24.2//
BEGIN:VEVENT
UID:20260419T213537CEST-0243590675@5.132.161.124
DTSTAMP:20260419T193537Z
DTSTART:20251018T113000Z
SUMMARY:Kasperl und die Orgelpfeifen 4+ (18.10.2025\, 13:30)
END:VEVENT
END:VCALENDAR
