BEGIN:VCALENDAR
VERSION:2.0
PRODID:-//5.132.161.124//NONSGML kigkonsult.se iCalcreator 2.24.2//
BEGIN:VEVENT
UID:20260419T210632CEST-6401201f23@5.132.161.124
DTSTAMP:20260419T190632Z
DTSTART:20260208T140000Z
SUMMARY:Dschungelparty – Affentanz 3+ (08.02.2026\, 15:00)
END:VEVENT
END:VCALENDAR
