BEGIN:VCALENDAR
VERSION:2.0
PRODID:-//5.132.161.124//NONSGML kigkonsult.se iCalcreator 2.24.2//
BEGIN:VEVENT
UID:20260419T211603CEST-10590ce11e@5.132.161.124
DTSTAMP:20260419T191603Z
DTSTART:20251018T083000Z
SUMMARY:Kasperl und die Orgelpfeifen 4+ (18.10.2025\, 10:30)
END:VEVENT
END:VCALENDAR
