BEGIN:VCALENDAR
VERSION:2.0
PRODID:-//5.132.161.124//NONSGML kigkonsult.se iCalcreator 2.24.2//
BEGIN:VEVENT
UID:20260419T180511CEST-654601e5bd@5.132.161.124
DTSTAMP:20260419T160511Z
DTSTART:20260131T093000Z
SUMMARY:Familienführung – Fokus Konzerterlebnis (31.01.2026\, 10:30)
END:VEVENT
END:VCALENDAR
