BEGIN:VCALENDAR
VERSION:2.0
PRODID:-//5.132.161.124//NONSGML kigkonsult.se iCalcreator 2.24.2//
BEGIN:VEVENT
UID:20260419T180804CEST-49785b94bf@5.132.161.124
DTSTAMP:20260419T160804Z
DTSTART:20260620T083000Z
SUMMARY:Familienführung – Fokus Orgel (20.06.2026\, 10:30)
END:VEVENT
END:VCALENDAR
