BEGIN:VCALENDAR
VERSION:2.0
PRODID:-//5.132.161.124//NONSGML kigkonsult.se iCalcreator 2.24.2//
BEGIN:VEVENT
UID:20260419T142259CEST-9494427063@5.132.161.124
DTSTAMP:20260419T122259Z
DTSTART:20260509T083000Z
SUMMARY:Familienführung – Fokus Orgel (09.05.2026\, 10:30)
END:VEVENT
END:VCALENDAR
