BEGIN:VCALENDAR
VERSION:2.0
PRODID:-//5.132.161.124//NONSGML kigkonsult.se iCalcreator 2.24.2//
BEGIN:VEVENT
UID:20260419T175629CEST-47963357a9@5.132.161.124
DTSTAMP:20260419T155629Z
DTSTART:20260418T083000Z
SUMMARY:Familienführung – Fokus Architektur ÖGS (18.04.2026\, 10:30)
END:VEVENT
END:VCALENDAR
