BEGIN:VCALENDAR
VERSION:2.0
PRODID:-//5.132.161.124//NONSGML kigkonsult.se iCalcreator 2.24.2//
BEGIN:VEVENT
UID:20260419T175145CEST-30177954ca@5.132.161.124
DTSTAMP:20260419T155145Z
DTSTART:20260321T093000Z
SUMMARY:Familienführung – Fokus Anton Bruckner (21.03.2026\, 10:30)
END:VEVENT
END:VCALENDAR
