BEGIN:VCALENDAR
VERSION:2.0
PRODID:-//5.132.161.124//NONSGML kigkonsult.se iCalcreator 2.24.2//
BEGIN:VEVENT
UID:20260419T180645CEST-9993473d05@5.132.161.124
DTSTAMP:20260419T160645Z
DTSTART:20251122T093000Z
SUMMARY:Familienführung – Fokus Orgel  (22.11.2025 10:30)
END:VEVENT
END:VCALENDAR
