BEGIN:VCALENDAR
VERSION:2.0
PRODID:-//5.132.161.124//NONSGML kigkonsult.se iCalcreator 2.24.2//
BEGIN:VEVENT
UID:20260419T173605CEST-8878ac9ca1@5.132.161.124
DTSTAMP:20260419T153605Z
DTSTART:20251212T170000Z
SUMMARY:Musikalischer Jahreskalender (12.12.2025\, 18:00)
END:VEVENT
END:VCALENDAR
