BEGIN:VCALENDAR
VERSION:2.0
PRODID:-//5.132.161.124//NONSGML kigkonsult.se iCalcreator 2.24.2//
BEGIN:VEVENT
UID:20260419T173751CEST-5688808fa9@5.132.161.124
DTSTAMP:20260419T153751Z
DTSTART:20260319T170000Z
SUMMARY:Musikalischer Jahreskalender (19.03.2026\, 18:00)
END:VEVENT
END:VCALENDAR
