BEGIN:VCALENDAR
VERSION:2.0
PRODID:-//5.132.161.124//NONSGML kigkonsult.se iCalcreator 2.24.2//
BEGIN:VEVENT
UID:20260419T173957CEST-24005e1cde@5.132.161.124
DTSTAMP:20260419T153957Z
DTSTART:20260408T160000Z
SUMMARY:Musikalischer Jahreskalender (08.04.2026\, 18:00)
END:VEVENT
END:VCALENDAR
