BEGIN:VCALENDAR
VERSION:2.0
PRODID:-//5.132.161.124//NONSGML kigkonsult.se iCalcreator 2.24.2//
BEGIN:VEVENT
UID:20260419T142233CEST-7335486eb5@5.132.161.124
DTSTAMP:20260419T122233Z
DTSTART:20260518T160000Z
SUMMARY:Musikalischer Jahreskalender (18.05.2026\, 18:00)
END:VEVENT
END:VCALENDAR
