BEGIN:VCALENDAR
VERSION:2.0
PRODID:-//5.132.161.124//NONSGML kigkonsult.se iCalcreator 2.24.2//
BEGIN:VEVENT
UID:20260419T142155CEST-5582eefb13@5.132.161.124
DTSTAMP:20260419T122155Z
DTSTART:20260602T160000Z
SUMMARY:Musikalischer Jahreskalender (02.06.2026\, 18:00)
END:VEVENT
END:VCALENDAR
