BEGIN:VCALENDAR
VERSION:2.0
PRODID:-//5.132.161.124//NONSGML kigkonsult.se iCalcreator 2.24.2//
BEGIN:VEVENT
UID:20260424T013007CEST-774265c7f3@5.132.161.124
DTSTAMP:20260423T233007Z
DTSTART:20211127T183000Z
SUMMARY:Schallfeld Ensemble (27.11.2021\, 19:30)
END:VEVENT
END:VCALENDAR
