BEGIN:VCALENDAR
VERSION:2.0
PRODID:-//5.132.161.124//NONSGML kigkonsult.se iCalcreator 2.24.2//
BEGIN:VEVENT
UID:20260420T045807CEST-275302b07c@5.132.161.124
DTSTAMP:20260420T025807Z
DTSTART:20220327T143000Z
SUMMARY:Bogenschwung (27.03.2022\, 16:30)
END:VEVENT
END:VCALENDAR
