BEGIN:VCALENDAR
VERSION:2.0
PRODID:-//5.132.161.124//NONSGML kigkonsult.se iCalcreator 2.24.2//
BEGIN:VEVENT
UID:20260421T074308CEST-0636e5475f@5.132.161.124
DTSTAMP:20260421T054308Z
DTSTART:20230314T183000Z
SUMMARY:Emerson String Quartet (14.3.2023\,19:30)
END:VEVENT
END:VCALENDAR
