BEGIN:VCALENDAR
VERSION:2.0
PRODID:-//5.132.161.124//NONSGML kigkonsult.se iCalcreator 2.24.2//
BEGIN:VEVENT
UID:20260422T021317CEST-3101555059@5.132.161.124
DTSTAMP:20260422T001317Z
DTSTART:20230922T173000Z
SUMMARY:Vladimir Jurowski\, Yefim Bronfman & Bayerisches Staatsorchester (2
 2.9.2023\, 19:30)
END:VEVENT
END:VCALENDAR
