BEGIN:VCALENDAR
VERSION:2.0
PRODID:-//5.132.161.124//NONSGML kigkonsult.se iCalcreator 2.24.2//
BEGIN:VEVENT
UID:20260422T014623CEST-0046781d5e@5.132.161.124
DTSTAMP:20260421T234623Z
DTSTART:20231004T090000Z
SUMMARY:#Yes_She_Can (Schulkonzerte14+ 4.10.2023\, 11:00)
END:VEVENT
END:VCALENDAR
