BEGIN:VCALENDAR
VERSION:2.0
PRODID:-//5.132.161.124//NONSGML kigkonsult.se iCalcreator 2.24.2//
BEGIN:VEVENT
UID:20260420T014443CEST-18773fb7a9@5.132.161.124
DTSTAMP:20260419T234443Z
DTSTART:20240123T183000Z
SUMMARY:Klaudia Tandl & Gisela Jöbstl (23.01.2024\, 19:30)
END:VEVENT
END:VCALENDAR
