BEGIN:VCALENDAR
VERSION:2.0
PRODID:-//5.132.161.124//NONSGML kigkonsult.se iCalcreator 2.24.2//
BEGIN:VEVENT
UID:20260420T170621CEST-07950f3f8e@5.132.161.124
DTSTAMP:20260420T150621Z
DTSTART:20241130T183000Z
SUMMARY:Klang der Kulturen (30.11.2024\,19:30)
END:VEVENT
END:VCALENDAR
