BEGIN:VCALENDAR
VERSION:2.0
PRODID:-//5.132.161.124//NONSGML kigkonsult.se iCalcreator 2.24.2//
BEGIN:VEVENT
UID:20260421T030555CEST-14013b1bc2@5.132.161.124
DTSTAMP:20260421T010555Z
DTSTART:20261024T160000Z
SUMMARY:Prisma Electric (24.10.2026\, 18:00)
END:VEVENT
END:VCALENDAR
