BEGIN:VCALENDAR
VERSION:2.0
PRODID:-//5.132.161.124//NONSGML kigkonsult.se iCalcreator 2.24.2//
BEGIN:VEVENT
UID:20260424T212617CEST-99601200c2@5.132.161.124
DTSTAMP:20260424T192617Z
DTSTART:20261213T190000Z
SUMMARY:The Music of Queen (13.12.2026\, 20:00)
END:VEVENT
END:VCALENDAR
