BEGIN:VCALENDAR
VERSION:2.0
PRODID:-//5.132.161.124//NONSGML kigkonsult.se iCalcreator 2.24.2//
BEGIN:VEVENT
UID:20260425T134907CEST-471123ce25@5.132.161.124
DTSTAMP:20260425T114907Z
DTSTART:20261213T133000Z
SUMMARY:Udo Jürgens – Tribute-Show (13.12.2026\, 14:30)
END:VEVENT
END:VCALENDAR
