BEGIN:VCALENDAR
VERSION:2.0
PRODID:-//5.132.161.124//NONSGML kigkonsult.se iCalcreator 2.24.2//
BEGIN:VEVENT
UID:20260425T140249CEST-3938a75e52@5.132.161.124
DTSTAMP:20260425T120249Z
DTSTART:20261204T190000Z
SUMMARY:Paul Panzer (04.12.2026\, 20:00)
END:VEVENT
END:VCALENDAR
